Workbook
Name Product_A_Name: [1]Summary!$C$3
Name Product_B_Name: [1]Summary!$D$3
Name ProjectType: Parameters[PROJECTTYPE]

Sheet PROJECT PARAMETERS
A1: Create Project Parameters in this worksheet. Enter Company Name in cell at right. Helpful instructions are in cells in this column. | B1: Bedrijfsnaam
A2: Title of this worksheet is in cell at right. | B2: Projectplanning voor advocatenkantoren
A3: Tip is in cell at right.
A4: Enter details in Parameters table starting in cell at right. Next instruction is in cell A12. | B4: PROJECTTYPE | C4: ALGEMEEN PARTNER | D4: BEDRIJFSJURIST | E4: VERDEDIGINGSPROCESADVOCAAT | F4: ADVOCAAT INTELLECTUEEL EIGENDOM | G4: FAILLISSEMENTSADVOCAAT | H4: ADMINISTRATIEF PERSONEEL | I4: TOTAAL
B5: Bedrijfsoprichting | C5: 0.1 | D5: 0.4 | E5: 0 | F5: 0 | G5: 0 | H5: 0.5 | I5: =SUM(Parameters[[#This Row],[ALGEMEEN PARTNER]:[ADMINISTRATIEF PERSONEEL]]) -> 1
B6: Bedrijfsovername | C6: 0.1 | D6: 0.4 | E6: 0 | F6: 0.1 | G6: 0 | H6: 0.4 | I6: =SUM(Parameters[[#This Row],[ALGEMEEN PARTNER]:[ADMINISTRATIEF PERSONEEL]]) -> 1
B7: Verweer tegen productaansprakelijkheid | C7: 0.2 | D7: 0 | E7: 0.5 | F7: 0 | G7: 0 | H7: 0.3 | I7: =SUM(Parameters[[#This Row],[ALGEMEEN PARTNER]:[ADMINISTRATIEF PERSONEEL]]) -> 1
B8: Octrooiaanvraag | C8: 0.1 | D8: 0 | E8: 0 | F8: 0.6 | G8: 0 | H8: 0.3 | I8: =SUM(Parameters[[#This Row],[ALGEMEEN PARTNER]:[ADMINISTRATIEF PERSONEEL]]) -> 1
B9: Werknemersrechtszaak | C9: 0.2 | D9: 0.1 | E9: 0.4 | F9: 0 | G9: 0 | H9: 0.3 | I9: =SUM(Parameters[[#This Row],[ALGEMEEN PARTNER]:[ADMINISTRATIEF PERSONEEL]]) -> 1
B10: Faillissement | C10: 0.1 | D10: 0.2 | E10: 0 | F10: 0 | G10: 0.4 | H10: 0.3 | I10: =SUM(Parameters[[#This Row],[ALGEMEEN PARTNER]:[ADMINISTRATIEF PERSONEEL]]) -> 1
A11: Enter Blended Rates in cells at right, cells C12 through H12. Next instruction is in cell A14. | B11: Geblende tarieven | C11: 350 | D11: 250 | E11: 300 | F11: 275 | G11: 225 | H11: 125
A13: Column chart showing comparison between Planned and Actual Cost is in cell at right, and column chart showing comparison between Planned and Actual Hours is in cell F14.
C14: GENERAL PARTNER | D14: BUSINESS | E14: DEFENSE LITIGATOR | F14: INTELLECTUAL PROP. | G14: BANKRUPTCY | H14: ADMIN STAFF
B15: PLANNED COST | C15: =SUBTOTAL(109,Details[GENERAL PARTNER]) -> #N/A | D15: =SUBTOTAL(109,Details[BUSINESS LAWYER]) -> #N/A | E15: =SUBTOTAL(109,Details[DEFENSE LITIGATOR]) -> #N/A | F15: =SUBTOTAL(109,Details[INTELLECTUAL PROPERTY LAWYER]) -> #N/A | G15: =SUBTOTAL(109,Details[BANKRUPTCY LAWYER]) -> #N/A | H15: =SUBTOTAL(109,Details[ADMIN STAFF]) -> #N/A
B16: ACTUAL COST | C16: =SUBTOTAL(109,Details[GENERAL PARTNER 2]) -> #N/A | D16: =SUBTOTAL(109,Details[BUSINESS LAWYER 2]) -> #N/A | E16: =SUBTOTAL(109,Details[DEFENSE LITIGATOR 2]) -> #N/A | F16: =SUBTOTAL(109,Details[INTELLECTUAL PROPERTY LAWYER 2]) -> #N/A | G16: =SUBTOTAL(109,Details[BANKRUPTCY LAWYER 2]) -> #N/A | H16: =SUBTOTAL(109,Details[ADMIN STAFF 2]) -> #N/A
B17: PLANNED HOURS | C17: =C15/$C$11 -> #N/A | D17: =D15/$C$11 -> #N/A | E17: =E15/$C$11 -> #N/A | F17: =F15/$C$11 -> #N/A | G17: =G15/$C$11 -> #N/A | H17: =H15/$C$11 -> #N/A
B18: ACTUAL HOURS | C18: =C16/$C$11 -> #N/A | D18: =D16/$C$11 -> #N/A | E18: =E16/$C$11 -> #N/A | F18: =F16/$C$11 -> #N/A | G18: =G16/$C$11 -> #N/A | H18: =H16/$C$11 -> #N/A

Sheet PROJECT DETAILS
A1: Create Project Details in this worksheet. Company Name is auto updated in cell at right. Helpful instructions are in cells in this column. Arrow down to get started. | B1: ='PROJECT PARAMETERS'!B1 -> Bedrijfsnaam
A2: Title of this worksheet is in cell at right and Info tip in cell Y2 . | B2: ='PROJECT PARAMETERS'!B2 -> Projectplanning voor advocatenkantoren
A3: Confidentiality message is in cell at right.
A4: Enter information in Details table starting in cell at right. Project Types in Details table at right are auto updated from Parameters table in Project Parameters worksheet. | B4: PROJECTNAAM | C4: PROJECTTYPE | D4: GESCHATTE START | E4: GESCHATTE EINDEIND | F4: ECHTE START | G4: HUIDIGE EINDSTAND | H4: GESCHATTE WERKZAAMHEDEN | I4: DAADWERKELIJK WERK | J4: GESCHATTE DUUR | K4: WERKELIJKE DUUR | L4: GENERAL PARTNER | M4: BUSINESS LAWYER | N4: DEFENSE LITIGATOR | O4: INTELLECTUAL PROPERTY LAWYER | P4: BANKRUPTCY LAWYER | Q4: ADMIN STAFF | R4: GENERAL PARTNER 2 | S4: BUSINESS LAWYER 2 | T4: DEFENSE LITIGATOR 2 | U4: INTELLECTUAL PROPERTY LAWYER 2 | V4: BANKRUPTCY LAWYER 2 | W4: ADMIN STAFF 2
B5: Project 1 | C5: Bedrijfsoprichting | D5: =TODAY() -> 46028 | E5: =TODAY()+60 -> 46088 | F5: =TODAY()+10 -> 46038 | G5: =TODAY()+65 -> 46093 | H5: 200 | I5: 220 | J5: =DAYS360(Details[[#This Row],[GESCHATTE START]],Details[[#This Row],[GESCHATTE EINDEIND]],FALSE) -> 61 | K5: =DAYS360(Details[[#This Row],[ECHTE START]],Details[[#This Row],[HUIDIGE EINDSTAND]],FALSE) -> 56 | L5: =INDEX(Parameters[],MATCH(Details[[#This Row],[PROJECTTYPE]],Parameters[PROJECTTYPE],0),MATCH(Details[[#Headers],[GENERAL PARTNER]],Parameters[#Headers],0))*INDEX('PROJECT PARAMETERS'!$B$11:$H$11,1,MATCH(Details[[#Headers],[GENERAL PARTNER]],Parameters[#Headers],0))*Details[[#This Row],[GESCHATTE WERKZAAMHEDEN]] -> #N/A | M5: =INDEX(Parameters[],MATCH(Details[[#This Row],[PROJECTTYPE]],Parameters[PROJECTTYPE],0),MATCH(Details[[#Headers],[BUSINESS LAWYER]],Parameters[#Headers],0))*INDEX('PROJECT PARAMETERS'!$B$11:$H$11,1,MATCH(Details[[#Headers],[BUSINESS LAWYER]],Parameters[#Headers],0))*Details[[#This Row],[GESCHATTE WERKZAAMHEDEN]] -> #N/A | N5: =INDEX(Parameters[],MATCH(Details[[#This Row],[PROJECTTYPE]],Parameters[PROJECTTYPE],0),MATCH(Details[[#Headers],[DEFENSE LITIGATOR]],Parameters[#Headers],0))*INDEX('PROJECT PARAMETERS'!$B$11:$H$11,1,MATCH(Details[[#Headers],[DEFENSE LITIGATOR]],Parameters[#Headers],0))*Details[[#This Row],[GESCHATTE WERKZAAMHEDEN]] -> #N/A | O5: =INDEX(Parameters[],MATCH(Details[[#This Row],[PROJECTTYPE]],Parameters[PROJECTTYPE],0),MATCH(Details[[#Headers],[INTELLECTUAL PROPERTY LAWYER]],Parameters[#Headers],0))*INDEX('PROJECT PARAMETERS'!$B$11:$H$11,1,MATCH(Details[[#Headers],[INTELLECTUAL PROPERTY LAWYER]],Parameters[#Headers],0))*Details[[#This Row],[GESCHATTE WERKZAAMHEDEN]] -> #N/A | P5: =INDEX(Parameters[],MATCH(Details[[#This Row],[PROJECTTYPE]],Parameters[PROJECTTYPE],0),MATCH(Details[[#Headers],[BANKRUPTCY LAWYER]],Parameters[#Headers],0))*INDEX('PROJECT PARAMETERS'!$B$11:$H$11,1,MATCH(Details[[#Headers],[BANKRUPTCY LAWYER]],Parameters[#Headers],0))*Details[[#This Row],[GESCHATTE WERKZAAMHEDEN]] -> #N/A | Q5: =INDEX(Parameters[],MATCH(Details[[#This Row],[PROJECTTYPE]],Parameters[PROJECTTYPE],0),MATCH(Details[[#Headers],[ADMIN STAFF]],Parameters[#Headers],0))*INDEX('PROJECT PARAMETERS'!$B$11:$H$11,1,MATCH(Details[[#Headers],[ADMIN STAFF]],Parameters[#Headers],0))*Details[[#This Row],[GESCHATTE WERKZAAMHEDEN]] -> #N/A | R5: =INDEX(Parameters[],MATCH(Details[[#This Row],[PROJECTTYPE]],Parameters[PROJECTTYPE],0),MATCH(Details[[#Headers],[GENERAL PARTNER]],Parameters[#Headers],0))*INDEX('PROJECT PARAMETERS'!$B$11:$H$11,1,MATCH(Details[[#Headers],[GENERAL PARTNER]],Parameters[#Headers],0))*Details[[#This Row],[DAADWERKELIJK WERK]] -> #N/A | S5: =INDEX(Parameters[],MATCH(Details[[#This Row],[PROJECTTYPE]],Parameters[PROJECTTYPE],0),MATCH(Details[[#Headers],[BUSINESS LAWYER]],Parameters[#Headers],0))*INDEX('PROJECT PARAMETERS'!$B$11:$H$11,1,MATCH(Details[[#Headers],[BUSINESS LAWYER]],Parameters[#Headers],0))*Details[[#This Row],[DAADWERKELIJK WERK]] -> #N/A | T5: =INDEX(Parameters[],MATCH(Details[[#This Row],[PROJECTTYPE]],Parameters[PROJECTTYPE],0),MATCH(Details[[#Headers],[DEFENSE LITIGATOR]],Parameters[#Headers],0))*INDEX('PROJECT PARAMETERS'!$B$11:$H$11,1,MATCH(Details[[#Headers],[DEFENSE LITIGATOR]],Parameters[#Headers],0))*Details[[#This Row],[DAADWERKELIJK WERK]] -> #N/A | U5: =INDEX(Parameters[],MATCH(Details[[#This Row],[PROJECTTYPE]],Parameters[PROJECTTYPE],0),MATCH(Details[[#Headers],[INTELLECTUAL PROPERTY LAWYER]],Parameters[#Headers],0))*INDEX('PROJECT PARAMETERS'!$B$11:$H$11,1,MATCH(Details[[#Headers],[INTELLECTUAL PROPERTY LAWYER]],Parameters[#Headers],0))*Details[[#This Row],[DAADWERKELIJK WERK]] -> #N/A | V5: =INDEX(Parameters[],MATCH(Details[[#This Row],[PROJECTTYPE]],Parameters[PROJECTTYPE],0),MATCH(Details[[#Headers],[BANKRUPTCY LAWYER]],Parameters[#Headers],0))*INDEX('PROJECT PARAMETERS'!$B$11:$H$11,1,MATCH(Details[[#Headers],[BANKRUPTCY LAWYER]],Parameters[#Headers],0))*Details[[#This Row],[DAADWERKELIJK WERK]] -> #N/A | W5: =INDEX(Parameters[],MATCH(Details[[#This Row],[PROJECTTYPE]],Parameters[PROJECTTYPE],0),MATCH(Details[[#Headers],[ADMIN STAFF]],Parameters[#Headers],0))*INDEX('PROJECT PARAMETERS'!$B$11:$H$11,1,MATCH(Details[[#Headers],[ADMIN STAFF]],Parameters[#Headers],0))*Details[[#This Row],[DAADWERKELIJK WERK]] -> #N/A
B6: Project 2 | C6: Bedrijfsovername | D6: =TODAY()+30 -> 46058 | E6: =TODAY()+100 -> 46128 | F6: =TODAY()+40 -> 46068 | G6: =TODAY()+110 -> 46138 | H6: 400 | I6: 390 | J6: =DAYS360(Details[[#This Row],[GESCHATTE START]],Details[[#This Row],[GESCHATTE EINDEIND]],FALSE) -> 71 | K6: =DAYS360(Details[[#This Row],[ECHTE START]],Details[[#This Row],[HUIDIGE EINDSTAND]],FALSE) -> 71 | L6: =INDEX(Parameters[],MATCH(Details[[#This Row],[PROJECTTYPE]],Parameters[PROJECTTYPE],0),MATCH(Details[[#Headers],[GENERAL PARTNER]],Parameters[#Headers],0))*INDEX('PROJECT PARAMETERS'!$B$11:$H$11,1,MATCH(Details[[#Headers],[GENERAL PARTNER]],Parameters[#Headers],0))*Details[[#This Row],[GESCHATTE WERKZAAMHEDEN]] -> #N/A | M6: =INDEX(Parameters[],MATCH(Details[[#This Row],[PROJECTTYPE]],Parameters[PROJECTTYPE],0),MATCH(Details[[#Headers],[BUSINESS LAWYER]],Parameters[#Headers],0))*INDEX('PROJECT PARAMETERS'!$B$11:$H$11,1,MATCH(Details[[#Headers],[BUSINESS LAWYER]],Parameters[#Headers],0))*Details[[#This Row],[GESCHATTE WERKZAAMHEDEN]] -> #N/A | N6: =INDEX(Parameters[],MATCH(Details[[#This Row],[PROJECTTYPE]],Parameters[PROJECTTYPE],0),MATCH(Details[[#Headers],[DEFENSE LITIGATOR]],Parameters[#Headers],0))*INDEX('PROJECT PARAMETERS'!$B$11:$H$11,1,MATCH(Details[[#Headers],[DEFENSE LITIGATOR]],Parameters[#Headers],0))*Details[[#This Row],[GESCHATTE WERKZAAMHEDEN]] -> #N/A | O6: =INDEX(Parameters[],MATCH(Details[[#This Row],[PROJECTTYPE]],Parameters[PROJECTTYPE],0),MATCH(Details[[#Headers],[INTELLECTUAL PROPERTY LAWYER]],Parameters[#Headers],0))*INDEX('PROJECT PARAMETERS'!$B$11:$H$11,1,MATCH(Details[[#Headers],[INTELLECTUAL PROPERTY LAWYER]],Parameters[#Headers],0))*Details[[#This Row],[GESCHATTE WERKZAAMHEDEN]] -> #N/A | P6: =INDEX(Parameters[],MATCH(Details[[#This Row],[PROJECTTYPE]],Parameters[PROJECTTYPE],0),MATCH(Details[[#Headers],[BANKRUPTCY LAWYER]],Parameters[#Headers],0))*INDEX('PROJECT PARAMETERS'!$B$11:$H$11,1,MATCH(Details[[#Headers],[BANKRUPTCY LAWYER]],Parameters[#Headers],0))*Details[[#This Row],[GESCHATTE WERKZAAMHEDEN]] -> #N/A | Q6: =INDEX(Parameters[],MATCH(Details[[#This Row],[PROJECTTYPE]],Parameters[PROJECTTYPE],0),MATCH(Details[[#Headers],[ADMIN STAFF]],Parameters[#Headers],0))*INDEX('PROJECT PARAMETERS'!$B$11:$H$11,1,MATCH(Details[[#Headers],[ADMIN STAFF]],Parameters[#Headers],0))*Details[[#This Row],[GESCHATTE WERKZAAMHEDEN]] -> #N/A | R6: =INDEX(Parameters[],MATCH(Details[[#This Row],[PROJECTTYPE]],Parameters[PROJECTTYPE],0),MATCH(Details[[#Headers],[GENERAL PARTNER]],Parameters[#Headers],0))*INDEX('PROJECT PARAMETERS'!$B$11:$H$11,1,MATCH(Details[[#Headers],[GENERAL PARTNER]],Parameters[#Headers],0))*Details[[#This Row],[DAADWERKELIJK WERK]] -> #N/A | S6: =INDEX(Parameters[],MATCH(Details[[#This Row],[PROJECTTYPE]],Parameters[PROJECTTYPE],0),MATCH(Details[[#Headers],[BUSINESS LAWYER]],Parameters[#Headers],0))*INDEX('PROJECT PARAMETERS'!$B$11:$H$11,1,MATCH(Details[[#Headers],[BUSINESS LAWYER]],Parameters[#Headers],0))*Details[[#This Row],[DAADWERKELIJK WERK]] -> #N/A | T6: =INDEX(Parameters[],MATCH(Details[[#This Row],[PROJECTTYPE]],Parameters[PROJECTTYPE],0),MATCH(Details[[#Headers],[DEFENSE LITIGATOR]],Parameters[#Headers],0))*INDEX('PROJECT PARAMETERS'!$B$11:$H$11,1,MATCH(Details[[#Headers],[DEFENSE LITIGATOR]],Parameters[#Headers],0))*Details[[#This Row],[DAADWERKELIJK WERK]] -> #N/A | U6: =INDEX(Parameters[],MATCH(Details[[#This Row],[PROJECTTYPE]],Parameters[PROJECTTYPE],0),MATCH(Details[[#Headers],[INTELLECTUAL PROPERTY LAWYER]],Parameters[#Headers],0))*INDEX('PROJECT PARAMETERS'!$B$11:$H$11,1,MATCH(Details[[#Headers],[INTELLECTUAL PROPERTY LAWYER]],Parameters[#Headers],0))*Details[[#This Row],[DAADWERKELIJK WERK]] -> #N/A | V6: =INDEX(Parameters[],MATCH(Details[[#This Row],[PROJECTTYPE]],Parameters[PROJECTTYPE],0),MATCH(Details[[#Headers],[BANKRUPTCY LAWYER]],Parameters[#Headers],0))*INDEX('PROJECT PARAMETERS'!$B$11:$H$11,1,MATCH(Details[[#Headers],[BANKRUPTCY LAWYER]],Parameters[#Headers],0))*Details[[#This Row],[DAADWERKELIJK WERK]] -> #N/A | W6: =INDEX(Parameters[],MATCH(Details[[#This Row],[PROJECTTYPE]],Parameters[PROJECTTYPE],0),MATCH(Details[[#Headers],[ADMIN STAFF]],Parameters[#Headers],0))*INDEX('PROJECT PARAMETERS'!$B$11:$H$11,1,MATCH(Details[[#Headers],[ADMIN STAFF]],Parameters[#Headers],0))*Details[[#This Row],[DAADWERKELIJK WERK]] -> #N/A
B7: Project 3 | C7: Verweer tegen productaansprakelijkheid | D7: =TODAY()+150 -> 46178 | E7: =TODAY()+150 -> 46178 | F7: =TODAY()+150 -> 46178 | G7: =TODAY()+170 -> 46198 | H7: 500 | I7: 500 | J7: =DAYS360(Details[[#This Row],[GESCHATTE START]],Details[[#This Row],[GESCHATTE EINDEIND]],FALSE) -> 0 | K7: =DAYS360(Details[[#This Row],[ECHTE START]],Details[[#This Row],[HUIDIGE EINDSTAND]],FALSE) -> 20 | L7: =INDEX(Parameters[],MATCH(Details[[#This Row],[PROJECTTYPE]],Parameters[PROJECTTYPE],0),MATCH(Details[[#Headers],[GENERAL PARTNER]],Parameters[#Headers],0))*INDEX('PROJECT PARAMETERS'!$B$11:$H$11,1,MATCH(Details[[#Headers],[GENERAL PARTNER]],Parameters[#Headers],0))*Details[[#This Row],[GESCHATTE WERKZAAMHEDEN]] -> #N/A | M7: =INDEX(Parameters[],MATCH(Details[[#This Row],[PROJECTTYPE]],Parameters[PROJECTTYPE],0),MATCH(Details[[#Headers],[BUSINESS LAWYER]],Parameters[#Headers],0))*INDEX('PROJECT PARAMETERS'!$B$11:$H$11,1,MATCH(Details[[#Headers],[BUSINESS LAWYER]],Parameters[#Headers],0))*Details[[#This Row],[GESCHATTE WERKZAAMHEDEN]] -> #N/A | N7: =INDEX(Parameters[],MATCH(Details[[#This Row],[PROJECTTYPE]],Parameters[PROJECTTYPE],0),MATCH(Details[[#Headers],[DEFENSE LITIGATOR]],Parameters[#Headers],0))*INDEX('PROJECT PARAMETERS'!$B$11:$H$11,1,MATCH(Details[[#Headers],[DEFENSE LITIGATOR]],Parameters[#Headers],0))*Details[[#This Row],[GESCHATTE WERKZAAMHEDEN]] -> #N/A | O7: =INDEX(Parameters[],MATCH(Details[[#This Row],[PROJECTTYPE]],Parameters[PROJECTTYPE],0),MATCH(Details[[#Headers],[INTELLECTUAL PROPERTY LAWYER]],Parameters[#Headers],0))*INDEX('PROJECT PARAMETERS'!$B$11:$H$11,1,MATCH(Details[[#Headers],[INTELLECTUAL PROPERTY LAWYER]],Parameters[#Headers],0))*Details[[#This Row],[GESCHATTE WERKZAAMHEDEN]] -> #N/A | P7: =INDEX(Parameters[],MATCH(Details[[#This Row],[PROJECTTYPE]],Parameters[PROJECTTYPE],0),MATCH(Details[[#Headers],[BANKRUPTCY LAWYER]],Parameters[#Headers],0))*INDEX('PROJECT PARAMETERS'!$B$11:$H$11,1,MATCH(Details[[#Headers],[BANKRUPTCY LAWYER]],Parameters[#Headers],0))*Details[[#This Row],[GESCHATTE WERKZAAMHEDEN]] -> #N/A | Q7: =INDEX(Parameters[],MATCH(Details[[#This Row],[PROJECTTYPE]],Parameters[PROJECTTYPE],0),MATCH(Details[[#Headers],[ADMIN STAFF]],Parameters[#Headers],0))*INDEX('PROJECT PARAMETERS'!$B$11:$H$11,1,MATCH(Details[[#Headers],[ADMIN STAFF]],Parameters[#Headers],0))*Details[[#This Row],[GESCHATTE WERKZAAMHEDEN]] -> #N/A | R7: =INDEX(Parameters[],MATCH(Details[[#This Row],[PROJECTTYPE]],Parameters[PROJECTTYPE],0),MATCH(Details[[#Headers],[GENERAL PARTNER]],Parameters[#Headers],0))*INDEX('PROJECT PARAMETERS'!$B$11:$H$11,1,MATCH(Details[[#Headers],[GENERAL PARTNER]],Parameters[#Headers],0))*Details[[#This Row],[DAADWERKELIJK WERK]] -> #N/A | S7: =INDEX(Parameters[],MATCH(Details[[#This Row],[PROJECTTYPE]],Parameters[PROJECTTYPE],0),MATCH(Details[[#Headers],[BUSINESS LAWYER]],Parameters[#Headers],0))*INDEX('PROJECT PARAMETERS'!$B$11:$H$11,1,MATCH(Details[[#Headers],[BUSINESS LAWYER]],Parameters[#Headers],0))*Details[[#This Row],[DAADWERKELIJK WERK]] -> #N/A | T7: =INDEX(Parameters[],MATCH(Details[[#This Row],[PROJECTTYPE]],Parameters[PROJECTTYPE],0),MATCH(Details[[#Headers],[DEFENSE LITIGATOR]],Parameters[#Headers],0))*INDEX('PROJECT PARAMETERS'!$B$11:$H$11,1,MATCH(Details[[#Headers],[DEFENSE LITIGATOR]],Parameters[#Headers],0))*Details[[#This Row],[DAADWERKELIJK WERK]] -> #N/A | U7: =INDEX(Parameters[],MATCH(Details[[#This Row],[PROJECTTYPE]],Parameters[PROJECTTYPE],0),MATCH(Details[[#Headers],[INTELLECTUAL PROPERTY LAWYER]],Parameters[#Headers],0))*INDEX('PROJECT PARAMETERS'!$B$11:$H$11,1,MATCH(Details[[#Headers],[INTELLECTUAL PROPERTY LAWYER]],Parameters[#Headers],0))*Details[[#This Row],[DAADWERKELIJK WERK]] -> #N/A | V7: =INDEX(Parameters[],MATCH(Details[[#This Row],[PROJECTTYPE]],Parameters[PROJECTTYPE],0),MATCH(Details[[#Headers],[BANKRUPTCY LAWYER]],Parameters[#Headers],0))*INDEX('PROJECT PARAMETERS'!$B$11:$H$11,1,MATCH(Details[[#Headers],[BANKRUPTCY LAWYER]],Parameters[#Headers],0))*Details[[#This Row],[DAADWERKELIJK WERK]] -> #N/A | W7: =INDEX(Parameters[],MATCH(Details[[#This Row],[PROJECTTYPE]],Parameters[PROJECTTYPE],0),MATCH(Details[[#Headers],[ADMIN STAFF]],Parameters[#Headers],0))*INDEX('PROJECT PARAMETERS'!$B$11:$H$11,1,MATCH(Details[[#Headers],[ADMIN STAFF]],Parameters[#Headers],0))*Details[[#This Row],[DAADWERKELIJK WERK]] -> #N/A
B8: Project 4 | C8: Octrooiaanvraag | D8: =TODAY()+200 -> 46228 | E8: =TODAY()+230 -> 46258 | F8: =TODAY()+230 -> 46258 | G8: =TODAY()+230 -> 46258 | H8: 150 | I8: 145 | J8: =DAYS360(Details[[#This Row],[GESCHATTE START]],Details[[#This Row],[GESCHATTE EINDEIND]],FALSE) -> 29 | K8: =DAYS360(Details[[#This Row],[ECHTE START]],Details[[#This Row],[HUIDIGE EINDSTAND]],FALSE) -> 0 | L8: =INDEX(Parameters[],MATCH(Details[[#This Row],[PROJECTTYPE]],Parameters[PROJECTTYPE],0),MATCH(Details[[#Headers],[GENERAL PARTNER]],Parameters[#Headers],0))*INDEX('PROJECT PARAMETERS'!$B$11:$H$11,1,MATCH(Details[[#Headers],[GENERAL PARTNER]],Parameters[#Headers],0))*Details[[#This Row],[GESCHATTE WERKZAAMHEDEN]] -> #N/A | M8: =INDEX(Parameters[],MATCH(Details[[#This Row],[PROJECTTYPE]],Parameters[PROJECTTYPE],0),MATCH(Details[[#Headers],[BUSINESS LAWYER]],Parameters[#Headers],0))*INDEX('PROJECT PARAMETERS'!$B$11:$H$11,1,MATCH(Details[[#Headers],[BUSINESS LAWYER]],Parameters[#Headers],0))*Details[[#This Row],[GESCHATTE WERKZAAMHEDEN]] -> #N/A | N8: =INDEX(Parameters[],MATCH(Details[[#This Row],[PROJECTTYPE]],Parameters[PROJECTTYPE],0),MATCH(Details[[#Headers],[DEFENSE LITIGATOR]],Parameters[#Headers],0))*INDEX('PROJECT PARAMETERS'!$B$11:$H$11,1,MATCH(Details[[#Headers],[DEFENSE LITIGATOR]],Parameters[#Headers],0))*Details[[#This Row],[GESCHATTE WERKZAAMHEDEN]] -> #N/A | O8: =INDEX(Parameters[],MATCH(Details[[#This Row],[PROJECTTYPE]],Parameters[PROJECTTYPE],0),MATCH(Details[[#Headers],[INTELLECTUAL PROPERTY LAWYER]],Parameters[#Headers],0))*INDEX('PROJECT PARAMETERS'!$B$11:$H$11,1,MATCH(Details[[#Headers],[INTELLECTUAL PROPERTY LAWYER]],Parameters[#Headers],0))*Details[[#This Row],[GESCHATTE WERKZAAMHEDEN]] -> #N/A | P8: =INDEX(Parameters[],MATCH(Details[[#This Row],[PROJECTTYPE]],Parameters[PROJECTTYPE],0),MATCH(Details[[#Headers],[BANKRUPTCY LAWYER]],Parameters[#Headers],0))*INDEX('PROJECT PARAMETERS'!$B$11:$H$11,1,MATCH(Details[[#Headers],[BANKRUPTCY LAWYER]],Parameters[#Headers],0))*Details[[#This Row],[GESCHATTE WERKZAAMHEDEN]] -> #N/A | Q8: =INDEX(Parameters[],MATCH(Details[[#This Row],[PROJECTTYPE]],Parameters[PROJECTTYPE],0),MATCH(Details[[#Headers],[ADMIN STAFF]],Parameters[#Headers],0))*INDEX('PROJECT PARAMETERS'!$B$11:$H$11,1,MATCH(Details[[#Headers],[ADMIN STAFF]],Parameters[#Headers],0))*Details[[#This Row],[GESCHATTE WERKZAAMHEDEN]] -> #N/A | R8: =INDEX(Parameters[],MATCH(Details[[#This Row],[PROJECTTYPE]],Parameters[PROJECTTYPE],0),MATCH(Details[[#Headers],[GENERAL PARTNER]],Parameters[#Headers],0))*INDEX('PROJECT PARAMETERS'!$B$11:$H$11,1,MATCH(Details[[#Headers],[GENERAL PARTNER]],Parameters[#Headers],0))*Details[[#This Row],[DAADWERKELIJK WERK]] -> #N/A | S8: =INDEX(Parameters[],MATCH(Details[[#This Row],[PROJECTTYPE]],Parameters[PROJECTTYPE],0),MATCH(Details[[#Headers],[BUSINESS LAWYER]],Parameters[#Headers],0))*INDEX('PROJECT PARAMETERS'!$B$11:$H$11,1,MATCH(Details[[#Headers],[BUSINESS LAWYER]],Parameters[#Headers],0))*Details[[#This Row],[DAADWERKELIJK WERK]] -> #N/A | T8: =INDEX(Parameters[],MATCH(Details[[#This Row],[PROJECTTYPE]],Parameters[PROJECTTYPE],0),MATCH(Details[[#Headers],[DEFENSE LITIGATOR]],Parameters[#Headers],0))*INDEX('PROJECT PARAMETERS'!$B$11:$H$11,1,MATCH(Details[[#Headers],[DEFENSE LITIGATOR]],Parameters[#Headers],0))*Details[[#This Row],[DAADWERKELIJK WERK]] -> #N/A | U8: =INDEX(Parameters[],MATCH(Details[[#This Row],[PROJECTTYPE]],Parameters[PROJECTTYPE],0),MATCH(Details[[#Headers],[INTELLECTUAL PROPERTY LAWYER]],Parameters[#Headers],0))*INDEX('PROJECT PARAMETERS'!$B$11:$H$11,1,MATCH(Details[[#Headers],[INTELLECTUAL PROPERTY LAWYER]],Parameters[#Headers],0))*Details[[#This Row],[DAADWERKELIJK WERK]] -> #N/A | V8: =INDEX(Parameters[],MATCH(Details[[#This Row],[PROJECTTYPE]],Parameters[PROJECTTYPE],0),MATCH(Details[[#Headers],[BANKRUPTCY LAWYER]],Parameters[#Headers],0))*INDEX('PROJECT PARAMETERS'!$B$11:$H$11,1,MATCH(Details[[#Headers],[BANKRUPTCY LAWYER]],Parameters[#Headers],0))*Details[[#This Row],[DAADWERKELIJK WERK]] -> #N/A | W8: =INDEX(Parameters[],MATCH(Details[[#This Row],[PROJECTTYPE]],Parameters[PROJECTTYPE],0),MATCH(Details[[#Headers],[ADMIN STAFF]],Parameters[#Headers],0))*INDEX('PROJECT PARAMETERS'!$B$11:$H$11,1,MATCH(Details[[#Headers],[ADMIN STAFF]],Parameters[#Headers],0))*Details[[#This Row],[DAADWERKELIJK WERK]] -> #N/A
B9: Project 5 | C9: Werknemersrechtszaak | D9: =TODAY()+220 -> 46248 | E9: =TODAY()+250 -> 46278 | F9: =TODAY()+230 -> 46258 | G9: =TODAY()+259 -> 46287 | H9: 250 | I9: 255 | J9: =DAYS360(Details[[#This Row],[GESCHATTE START]],Details[[#This Row],[GESCHATTE EINDEIND]],FALSE) -> 29 | K9: =DAYS360(Details[[#This Row],[ECHTE START]],Details[[#This Row],[HUIDIGE EINDSTAND]],FALSE) -> 28 | L9: =INDEX(Parameters[],MATCH(Details[[#This Row],[PROJECTTYPE]],Parameters[PROJECTTYPE],0),MATCH(Details[[#Headers],[GENERAL PARTNER]],Parameters[#Headers],0))*INDEX('PROJECT PARAMETERS'!$B$11:$H$11,1,MATCH(Details[[#Headers],[GENERAL PARTNER]],Parameters[#Headers],0))*Details[[#This Row],[GESCHATTE WERKZAAMHEDEN]] -> #N/A | M9: =INDEX(Parameters[],MATCH(Details[[#This Row],[PROJECTTYPE]],Parameters[PROJECTTYPE],0),MATCH(Details[[#Headers],[BUSINESS LAWYER]],Parameters[#Headers],0))*INDEX('PROJECT PARAMETERS'!$B$11:$H$11,1,MATCH(Details[[#Headers],[BUSINESS LAWYER]],Parameters[#Headers],0))*Details[[#This Row],[GESCHATTE WERKZAAMHEDEN]] -> #N/A | N9: =INDEX(Parameters[],MATCH(Details[[#This Row],[PROJECTTYPE]],Parameters[PROJECTTYPE],0),MATCH(Details[[#Headers],[DEFENSE LITIGATOR]],Parameters[#Headers],0))*INDEX('PROJECT PARAMETERS'!$B$11:$H$11,1,MATCH(Details[[#Headers],[DEFENSE LITIGATOR]],Parameters[#Headers],0))*Details[[#This Row],[GESCHATTE WERKZAAMHEDEN]] -> #N/A | O9: =INDEX(Parameters[],MATCH(Details[[#This Row],[PROJECTTYPE]],Parameters[PROJECTTYPE],0),MATCH(Details[[#Headers],[INTELLECTUAL PROPERTY LAWYER]],Parameters[#Headers],0))*INDEX('PROJECT PARAMETERS'!$B$11:$H$11,1,MATCH(Details[[#Headers],[INTELLECTUAL PROPERTY LAWYER]],Parameters[#Headers],0))*Details[[#This Row],[GESCHATTE WERKZAAMHEDEN]] -> #N/A | P9: =INDEX(Parameters[],MATCH(Details[[#This Row],[PROJECTTYPE]],Parameters[PROJECTTYPE],0),MATCH(Details[[#Headers],[BANKRUPTCY LAWYER]],Parameters[#Headers],0))*INDEX('PROJECT PARAMETERS'!$B$11:$H$11,1,MATCH(Details[[#Headers],[BANKRUPTCY LAWYER]],Parameters[#Headers],0))*Details[[#This Row],[GESCHATTE WERKZAAMHEDEN]] -> #N/A | Q9: =INDEX(Parameters[],MATCH(Details[[#This Row],[PROJECTTYPE]],Parameters[PROJECTTYPE],0),MATCH(Details[[#Headers],[ADMIN STAFF]],Parameters[#Headers],0))*INDEX('PROJECT PARAMETERS'!$B$11:$H$11,1,MATCH(Details[[#Headers],[ADMIN STAFF]],Parameters[#Headers],0))*Details[[#This Row],[GESCHATTE WERKZAAMHEDEN]] -> #N/A | R9: =INDEX(Parameters[],MATCH(Details[[#This Row],[PROJECTTYPE]],Parameters[PROJECTTYPE],0),MATCH(Details[[#Headers],[GENERAL PARTNER]],Parameters[#Headers],0))*INDEX('PROJECT PARAMETERS'!$B$11:$H$11,1,MATCH(Details[[#Headers],[GENERAL PARTNER]],Parameters[#Headers],0))*Details[[#This Row],[DAADWERKELIJK WERK]] -> #N/A | S9: =INDEX(Parameters[],MATCH(Details[[#This Row],[PROJECTTYPE]],Parameters[PROJECTTYPE],0),MATCH(Details[[#Headers],[BUSINESS LAWYER]],Parameters[#Headers],0))*INDEX('PROJECT PARAMETERS'!$B$11:$H$11,1,MATCH(Details[[#Headers],[BUSINESS LAWYER]],Parameters[#Headers],0))*Details[[#This Row],[DAADWERKELIJK WERK]] -> #N/A | T9: =INDEX(Parameters[],MATCH(Details[[#This Row],[PROJECTTYPE]],Parameters[PROJECTTYPE],0),MATCH(Details[[#Headers],[DEFENSE LITIGATOR]],Parameters[#Headers],0))*INDEX('PROJECT PARAMETERS'!$B$11:$H$11,1,MATCH(Details[[#Headers],[DEFENSE LITIGATOR]],Parameters[#Headers],0))*Details[[#This Row],[DAADWERKELIJK WERK]] -> #N/A | U9: =INDEX(Parameters[],MATCH(Details[[#This Row],[PROJECTTYPE]],Parameters[PROJECTTYPE],0),MATCH(Details[[#Headers],[INTELLECTUAL PROPERTY LAWYER]],Parameters[#Headers],0))*INDEX('PROJECT PARAMETERS'!$B$11:$H$11,1,MATCH(Details[[#Headers],[INTELLECTUAL PROPERTY LAWYER]],Parameters[#Headers],0))*Details[[#This Row],[DAADWERKELIJK WERK]] -> #N/A | V9: =INDEX(Parameters[],MATCH(Details[[#This Row],[PROJECTTYPE]],Parameters[PROJECTTYPE],0),MATCH(Details[[#Headers],[BANKRUPTCY LAWYER]],Parameters[#Headers],0))*INDEX('PROJECT PARAMETERS'!$B$11:$H$11,1,MATCH(Details[[#Headers],[BANKRUPTCY LAWYER]],Parameters[#Headers],0))*Details[[#This Row],[DAADWERKELIJK WERK]] -> #N/A | W9: =INDEX(Parameters[],MATCH(Details[[#This Row],[PROJECTTYPE]],Parameters[PROJECTTYPE],0),MATCH(Details[[#Headers],[ADMIN STAFF]],Parameters[#Headers],0))*INDEX('PROJECT PARAMETERS'!$B$11:$H$11,1,MATCH(Details[[#Headers],[ADMIN STAFF]],Parameters[#Headers],0))*Details[[#This Row],[DAADWERKELIJK WERK]] -> #N/A
B10: TOTAAL | H10: =SUBTOTAL(109,Details[GESCHATTE WERKZAAMHEDEN]) -> 1500 | I10: =SUBTOTAL(109,Details[DAADWERKELIJK WERK]) -> 1510 | J10: =SUBTOTAL(109,Details[GESCHATTE DUUR]) -> 190 | K10: =SUBTOTAL(109,Details[WERKELIJKE DUUR]) -> 175

Sheet PROJECT TOTALS
A1: Get Project Totals in this worksheet. Company Name is automatically updated in cell at right. Helpful instructions are in cells in this column. Arrow down to get started. | B1: ='PROJECT PARAMETERS'!B1 -> Bedrijfsnaam
A2: Title of this worksheet is in cell at right. | B2: ='PROJECT PARAMETERS'!B2 -> Projectplanning voor advocatenkantoren
A4: Estimated label is in cell C4, Actual label in cell I4, and Info tip in cell P4. | C4: GERAAMDE U | I4: HUIDIG | P4: INFO: This PivotTable will not refresh automatically. To refresh it, select it (any cell within the PivotTable), on the PIVOTTABLE TOOLS | ANALYZE ribbon tab select Refresh. Or press SHIFT + F10 by selecting the PivotTable and select Refresh.
A5: PivotTable starting in cell at right is auto updated | B5: PROJECTNAAM | C5: ALGEMEEN PARTNER | D5: GENERAL PARTNER | E5: ZAKEN | F5: BUSINESS | G5: VERDEDIGINGSPROCESADVOCAAT | H5: DEFENSE LITIGATOR | I5: INTELLECTUEEL EIGENDOM | J5: INTELLECTUAL PROPERTY | K5: FAILLISSEMENT | L5: BANKRUPTCY | M5: ADMINISTRATIEF PERSONEEL | N5: ADMIN STAFF
B6: Project 1 | C6: 7700 | D6: 7000 | E6: 22000 | F6: 20000 | G6: 0 | H6: 0 | I6: 0 | J6: 0 | K6: 0 | L6: 0 | M6: 13750 | N6: 12500
B7: Project 2 | C7: 13650 | D7: 14000 | E7: 39000 | F7: 40000 | G7: 0 | H7: 0 | I7: 10725 | J7: 11000 | K7: 0 | L7: 0 | M7: 19500 | N7: 20000
B8: Project 3 | C8: 35000 | D8: 35000 | E8: 0 | F8: 0 | G8: 75000 | H8: 75000 | I8: 0 | J8: 0 | K8: 0 | L8: 0 | M8: 18750 | N8: 18750
B9: Project 4 | C9: 5075 | D9: 5250 | E9: 0 | F9: 0 | G9: 0 | H9: 0 | I9: 23925 | J9: 24750 | K9: 0 | L9: 0 | M9: 5437.5 | N9: 5625
B10: Project 5 | C10: 17850 | D10: 17500 | E10: 6375 | F10: 6250 | G10: 30600 | H10: 30000 | I10: 0 | J10: 0 | K10: 0 | L10: 0 | M10: 9562.5 | N10: 9375
B11: Groot totaal | C11: 79275 | D11: 78750 | E11: 67375 | F11: 66250 | G11: 105600 | H11: 105000 | I11: 34650 | J11: 35750 | K11: 0 | L11: 0 | M11: 67000 | N11: 66250
