Workbook

Sheet Kanaalmarketingbudget
A1: BUDGET VOOR KANAALMARKETING
A2: Beschrijving | B2: Verhouding | C2: Maand 1 | D2: Maand 2 | E2: Maand 3 | F2: Maand 4 | G2: Maand 5 | H2: Maand 6 | I2: Maand 7 | J2: Maand 8 | K2: Maand 9 | L2: Maand 10 | M2: Maand 11 | N2: Maand 12 | O2: Totaal
A3: VERWACHTE OMZET TOTAAL £ (000) | C3: 750 | D3: 200 | E3: 500 | F3: 1500 | G3: 1200 | H3: 1500 | I3: 1500 | J3: 1800 | K3: 2000 | L3: 2000 | M3: 2000 | N3: 2000 | O3: =SUM(C3:N3) -> 16950
A4: Personeelszaken | B4: Verhouding | C4: Maand 1 | D4: Maand 2 | E4: Maand 3 | F4: Maand 4 | G4: Maand 5 | H4: Maand 6 | I4: Maand 7 | J4: Maand 8 | K4: Maand 9 | L4: Maand 10 | M4: Maand 11 | N4: Maand 12 | O4: Totaal
A5: PERSONEEL (% VAN DE TOTALE OMZET) | C5: =C11+C33+C41+C48 -> 1.1 | D5: =D11+D33+D41+D48 -> 1.1 | E5: =E11+E33+E41+E48 -> 1.1 | F5: =F11+F33+F41+F48 -> 1.1 | G5: =G11+G33+G41+G48 -> 1.1 | H5: =H11+H33+H41+H48 -> 1.1 | I5: =I11+I33+I41+I48 -> 1.1 | J5: =J11+J33+J41+J48 -> 1.1 | ... N5: =N11+N33+N41+N48 -> 0.85
A6: Human Resources – Aantal medewerkers | B6: 5 | C6: =+$B$6 -> 5 | D6: =+$B$6 -> 5 | E6: =+$B$6 -> 5 | F6: =+$B$6 -> 5 | G6: =+$B$6 -> 5 | H6: =+$B$6 -> 5 | I6: =+$B$6 -> 5 | J6: =+$B$6 -> 5 | ... N6: =+$B$6 -> 5
A7: Human Resources – Kosten | C7: =$B$6*C6 -> 25 | D7: =$B$6*D6 -> 25 | E7: =$B$6*E6 -> 25 | F7: =$B$6*F6 -> 25 | G7: =$B$6*G6 -> 25 | H7: =$B$6*H6 -> 25 | I7: =$B$6*I6 -> 25 | J7: =$B$6*J6 -> 25 | ... N7: =$B$6*N6 -> 25 | O7: =SUM(Kanaalmarketingbudget!$C7:$N7) -> 300
A8: Commissie | B8: 0.001 | C8: =C3*$B$8 -> 0.75 | D8: =D3*$B$8 -> 0.2 | E8: =E3*$B$8 -> 0.5 | F8: =F3*$B$8 -> 1.5 | G8: =G3*$B$8 -> 1.2 | H8: =H3*$B$8 -> 1.5 | I8: =I3*$B$8 -> 1.5 | J8: =J3*$B$8 -> 1.8 | ... N8: =N3*$B$8 -> 2 | O8: =SUM(Kanaalmarketingbudget!$C8:$N8) -> 16.95
A9: Personeel Totaal £ (000) | C9: =SUM(C7:C8) -> 25.75 | D9: =SUM(D7:D8) -> 25.2 | E9: =SUM(E7:E8) -> 25.5 | F9: =SUM(F7:F8) -> 26.5 | G9: =SUM(G7:G8) -> 26.2 | H9: =SUM(H7:H8) -> 26.5 | I9: =SUM(I7:I8) -> 26.5 | J9: =SUM(J7:J8) -> 26.8 | ... O9: =SUM(O7:O8) -> 316.95
A10: Direct Marketing Artikelen | B10: Verhouding | C10: Maand 1 | D10: Maand 2 | E10: Maand 3 | F10: Maand 4 | G10: Maand 5 | H10: Maand 6 | I10: Maand 7 | J10: Maand 8 | K10: Maand 9 | L10: Maand 10 | M10: Maand 11 | N10: Maand 12 | O10: Totaal
A11: DIRECT MARKETING (% VAN DE TOTALE OMZET) | C11: 1 | D11: 1 | E11: 0.75 | F11: 0.4 | G11: 0.33 | H11: 0.25 | I11: 0.2 | J11: 0.1 | K11: 0.05 | L11: 0.05 | M11: 0.05 | N11: 0.05
A12: Telemarketing (% van de directe verkoop) | C12: 1 | D12: 0.5 | E12: 0.5 | F12: 0.5 | G12: 0.5 | H12: 0.5 | I12: 0.5 | J12: 0.5 | K12: 0.5 | L12: 0.5 | M12: 0.5 | N12: 0.5
A13: Human Resources – Aantal medewerkers | B13: 3 | C13: =$B$13*C12 -> 3 | D13: =$B$13*D12 -> 1.5 | E13: =$B$13*E12 -> 1.5 | F13: =$B$13*F12 -> 1.5 | G13: =$B$13*G12 -> 1.5 | H13: =$B$13*H12 -> 1.5 | I13: =$B$13*I12 -> 1.5 | J13: =$B$13*J12 -> 1.5 | ... N13: =$B$13*N12 -> 1.5 | O13: =SUM(Kanaalmarketingbudget!$C13:$N13) -> 19.5
A14: Ondersteuning voor infrastructuur | C14: 25 | D14: 10 | E14: 25 | F14: 10 | G14: 25 | H14: 10 | I14: 25 | J14: 10 | K14: 25 | L14: 10 | M14: 25 | N14: 10 | O14: =SUM(Kanaalmarketingbudget!$C14:$N14) -> 210
A15: Commissie | B15: 0.001 | C15: =$B$15*C3*C11*C12 -> 0.75 | D15: =$B$15*D3*D11*D12 -> 0.1 | E15: =$B$15*E3*E11*E12 -> 0.1875 | F15: =$B$15*F3*F11*F12 -> 0.3 | G15: =$B$15*G3*G11*G12 -> 0.198 | H15: =$B$15*H3*H11*H12 -> 0.1875 | I15: =$B$15*I3*I11*I12 -> 0.15 | J15: =$B$15*J3*J11*J12 -> 0.09 | ... N15: =$B$15*N3*N11*N12 -> 0.05 | O15: =SUM(Kanaalmarketingbudget!$C15:$N15) -> 2.163
A16: Opleiding | C16: 25 | D16: 10 | E16: 25 | F16: 10 | G16: 25 | H16: 10 | I16: 25 | J16: 10 | K16: 25 | L16: 10 | M16: 25 | N16: 10 | O16: =SUM(Kanaalmarketingbudget!$C16:$N16) -> 210
A17: Telemarketing Totaal £(000) | C17: =SUM(C13:C16) -> 53.75 | D17: =SUM(D13:D16) -> 21.6 | E17: =SUM(E13:E16) -> 51.6875 | F17: =SUM(F13:F16) -> 21.8 | G17: =SUM(G13:G16) -> 51.698 | H17: =SUM(H13:H16) -> 21.6875 | I17: =SUM(I13:I16) -> 51.65 | J17: =SUM(J13:J16) -> 21.59 | ... O17: =SUM(O13:O16) -> 441.663
A18: Internet Marketing Artikelen | B18: Verhouding | C18: Maand 1 | D18: Maand 2 | E18: Maand 3 | F18: Maand 4 | G18: Maand 5 | H18: Maand 6 | I18: Maand 7 | J18: Maand 8 | K18: Maand 9 | L18: Maand 10 | M18: Maand 11 | N18: Maand 12 | O18: Totaal
A19: Internetmarketing (% van de directe verkoop) | C19: 0.25 | D19: 0.25 | E19: 0.25 | F19: 0.25 | G19: 0.25 | H19: 0.25 | I19: 0.25 | J19: 0.25 | K19: 0.25 | L19: 0.25 | M19: 0.25 | N19: 0.25
A20: Human Resources – Aantal medewerkers | B20: 1 | C20: =$B$20*C19 -> 0.25 | D20: =$B$20*D19 -> 0.25 | E20: =$B$20*E19 -> 0.25 | F20: =$B$20*F19 -> 0.25 | G20: =$B$20*G19 -> 0.25 | H20: =$B$20*H19 -> 0.25 | I20: =$B$20*I19 -> 0.25 | J20: =$B$20*J19 -> 0.25 | ... N20: =$B$20*N19 -> 0.25 | O20: =SUM(Kanaalmarketingbudget!$C20:$N20) -> 3
A21: Ontwikkeling van de website (eenmalige kosten) | C21: 500 | O21: =SUM(Kanaalmarketingbudget!$C21:$N21) -> 500
A22: Gastvrijheid | C22: 10 | D22: 10 | E22: 10 | F22: 10 | G22: 10 | H22: 10 | I22: 10 | J22: 10 | K22: 10 | L22: 10 | M22: 10 | N22: 10 | O22: =SUM(Kanaalmarketingbudget!$C22:$N22) -> 120
A23: Ondersteuning en onderhoud | C23: 25 | M23: 25 | O23: =SUM(Kanaalmarketingbudget!$C23:$N23) -> 50
A24: Internet Marketing Totaal £ (000) | C24: =SUM(C20:C23) -> 535.25 | D24: =SUM(D20:D23) -> 10.25 | E24: =SUM(E20:E23) -> 10.25 | F24: =SUM(F20:F23) -> 10.25 | G24: =SUM(G20:G23) -> 10.25 | H24: =SUM(H20:H23) -> 10.25 | I24: =SUM(I20:I23) -> 10.25 | J24: =SUM(J20:J23) -> 10.25 | ... O24: =SUM(O20:O23) -> 673
A25: Direct Mail-items | B25: Verhouding | C25: Maand 1 | D25: Maand 2 | E25: Maand 3 | F25: Maand 4 | G25: Maand 5 | H25: Maand 6 | I25: Maand 7 | J25: Maand 8 | K25: Maand 9 | L25: Maand 10 | M25: Maand 11 | N25: Maand 12 | O25: Totaal
A26: Direct mail (% van de directe verkoop)
A27: Human Resources – Kosten | O27: =SUM(Kanaalmarketingbudget!$C27:$N27) -> 0
A28: Materiaal | C28: 1000 | D28: 1000 | E28: 1000 | F28: 1000 | G28: 1000 | H28: 1000 | I28: 1000 | J28: 1000 | K28: 1000 | L28: 1000 | M28: 1000 | N28: 1000 | O28: =SUM(Kanaalmarketingbudget!$C28:$N28) -> 12000
A29: Frankering | C29: 250 | D29: 250 | E29: 250 | F29: 250 | G29: 250 | H29: 250 | I29: 250 | J29: 250 | K29: 250 | L29: 250 | M29: 250 | N29: 250 | O29: =SUM(Kanaalmarketingbudget!$C29:$N29) -> 3000
A30: Direct Mail Totaal £ (000) | C30: =SUM(C27:C29) -> 1250 | D30: =SUM(D27:D29) -> 1250 | E30: =SUM(E27:E29) -> 1250 | F30: =SUM(F27:F29) -> 1250 | G30: =SUM(G27:G29) -> 1250 | H30: =SUM(H27:H29) -> 1250 | I30: =SUM(I27:I29) -> 1250 | J30: =SUM(J27:J29) -> 1250 | ... O30: =SUM(O27:O29) -> 15000
A31: Direct marketing Totaal £ (000) | C31: =SUM(DirectMail[[#Totals],[Maand 1]],InternetMarketing[[#Totals],[Maand 1]],DirectMarketing[[#Totals],[Maand 1]]) -> 1839 | D31: =SUM(DirectMail[[#Totals],[Maand 2]],InternetMarketing[[#Totals],[Maand 2]],DirectMarketing[[#Totals],[Maand 2]]) -> 1281.85 | E31: =SUM(DirectMail[[#Totals],[Maand 3]],InternetMarketing[[#Totals],[Maand 3]],DirectMarketing[[#Totals],[Maand 3]]) -> 1311.9375 | F31: =SUM(DirectMail[[#Totals],[Maand 4]],InternetMarketing[[#Totals],[Maand 4]],DirectMarketing[[#Totals],[Maand 4]]) -> 1282.05 | G31: =SUM(DirectMail[[#Totals],[Maand 5]],InternetMarketing[[#Totals],[Maand 5]],DirectMarketing[[#Totals],[Maand 5]]) -> 1311.948 | H31: =SUM(DirectMail[[#Totals],[Maand 6]],InternetMarketing[[#Totals],[Maand 6]],DirectMarketing[[#Totals],[Maand 6]]) -> 1281.9375 | I31: =SUM(DirectMail[[#Totals],[Maand 7]],InternetMarketing[[#Totals],[Maand 7]],DirectMarketing[[#Totals],[Maand 7]]) -> 1311.9 | J31: =SUM(DirectMail[[#Totals],[Maand 8]],InternetMarketing[[#Totals],[Maand 8]],DirectMarketing[[#Totals],[Maand 8]]) -> 1281.84 | K31: =SUM(DirectMail[[#Totals],[Maand 9]],InternetMarketing[[#Totals],[Maand 9]],DirectMarketing[[#Totals],[Maand 9]]) -> 1311.8 | L31: =SUM(DirectMail[[#Totals],[Maand 10]],InternetMarketing[[#Totals],[Maand 10]],DirectMarketing[[#Totals],[Maand 10]]) -> 1281.8 | M31: =SUM(DirectMail[[#Totals],[Maand 11]],InternetMarketing[[#Totals],[Maand 11]],DirectMarketing[[#Totals],[Maand 11]]) -> 1336.8 | N31: =SUM(DirectMail[[#Totals],[Maand 12]],InternetMarketing[[#Totals],[Maand 12]],DirectMarketing[[#Totals],[Maand 12]]) -> 1281.8 | O31: =SUM(O30,O24,O17,O9) -> 16431.613
A32: Agent/Makelaar Items | B32: Verhouding | C32: Maand 1 | D32: Maand 2 | E32: Maand 3 | F32: Maand 4 | G32: Maand 5 | H32: Maand 6 | I32: Maand 7 | J32: Maand 8 | K32: Maand 9 | L32: Maand 10 | M32: Maand 11 | N32: Maand 12 | O32: Totaal
A33: AGENT/MAKELAAR (% VAN DE TOTALE OMZET) | C33: 0.1 | D33: 0.1 | E33: 0.1 | F33: 0.1 | G33: 0.1 | H33: 0.1 | I33: 0.1 | J33: 0.1 | K33: 0.1 | L33: 0.1 | M33: 0.1 | N33: 0.1
A34: Communicatie | C34: 50 | D34: 50 | E34: 50 | F34: 50 | G34: 50 | H34: 50 | I34: 50 | J34: 50 | K34: 50 | L34: 50 | M34: 50 | N34: 50 | O34: =SUM(Kanaalmarketingbudget!$C34:$N34) -> 600
A35: Opleiding | C35: 250 | D35: 250 | E35: 250 | F35: 250 | G35: 250 | H35: 250 | I35: 250 | J35: 250 | K35: 250 | L35: 250 | M35: 250 | N35: 250 | O35: =SUM(Kanaalmarketingbudget!$C35:$N35) -> 3000
A36: Promoties | C36: 600 | D36: 600 | E36: 600 | F36: 600 | G36: 600 | H36: 600 | I36: 600 | J36: 600 | K36: 600 | L36: 600 | M36: 600 | N36: 600 | O36: =SUM(Kanaalmarketingbudget!$C36:$N36) -> 7200
A37: Kortingen | B37: 0.1 | C37: =C3*C33*$B$37 -> 7.5 | D37: =D3*D33*$B$37 -> 2 | E37: =E3*E33*$B$37 -> 5 | F37: =F3*F33*$B$37 -> 15 | G37: =G3*G33*$B$37 -> 12 | H37: =H3*H33*$B$37 -> 15 | I37: =I3*I33*$B$37 -> 15 | J37: =J3*J33*$B$37 -> 18 | ... N37: =N3*N33*$B$37 -> 20 | O37: =SUM(Kanaalmarketingbudget!$C37:$N37) -> 169.5
A38: Commissie (% van de omzet van de agent) | B38: 0.1 | C38: =C3*C33*$B$38 -> 7.5 | D38: =D3*D33*$B$38 -> 2 | E38: =E3*E33*$B$38 -> 5 | F38: =F3*F33*$B$38 -> 15 | G38: =G3*G33*$B$38 -> 12 | H38: =H3*H33*$B$38 -> 15 | I38: =I3*I33*$B$38 -> 15 | J38: =J3*J33*$B$38 -> 18 | ... N38: =N3*N33*$B$38 -> 20 | O38: =SUM(Kanaalmarketingbudget!$C38:$N38) -> 169.5
A39: Agent/makelaar Totaal £ (000) | C39: =SUM(C34:C38) -> 915 | D39: =SUM(D34:D38) -> 904 | E39: =SUM(E34:E38) -> 910 | F39: =SUM(F34:F38) -> 930 | G39: =SUM(G34:G38) -> 924 | H39: =SUM(H34:H38) -> 930 | I39: =SUM(I34:I38) -> 930 | J39: =SUM(J34:J38) -> 936 | ... O39: =SUM(O34:O38) -> 11139
A40: Distributeur artikelen | B40: Verhouding | C40: Maand 1 | D40: Maand 2 | E40: Maand 3 | F40: Maand 4 | G40: Maand 5 | H40: Maand 6 | I40: Maand 7 | J40: Maand 8 | K40: Maand 9 | L40: Maand 10 | M40: Maand 11 | N40: Maand 12 | O40: Totaal
...
