Workbook
Name Comprobantes: '[1]Tabla de Comprobantes'!$A$3:$A$65
Name PC: '[1]Tabla de Comprobantes'!$E$3:$E$14

Sheet Begrotingssamenvatting
A1: Bouw BUDGET Offerte Samenvatting
A3: Bedrijfsnaam: | B3: XYZ | D3: Naam klant: | E3: ABC
A4: Adres: | B4: hgjGjkdh | D4: Adres: | E4: adada
A5: Mobiel nr: | B5: 215796233 | D5: Mobiel nr: | E5: 215796233
A7: BESCHRIJVING | B7: PRIJS | C7: % KORTING | D7: KORTING | E7: TOTAAL
A8: Voorbereidende taken | B8: =+Budgetdetails!F13 -> 2390 | C8: 0.05 | D8: =+B8-(B8*C8) -> 2270.5 | E8: =+D8 -> 2270.5
A9: Sloop | B9: =+Budgetdetails!F20 -> 1109 | C9: 0 | D9: =+B9-(B9*C9) -> 1109 | E9: =+D9 -> 1109
A10: Industriële afwatering | B10: =+Budgetdetails!F27 -> 1670 | C10: 0 | D10: =+B10-(B10*C10) -> 1670 | E10: =+D10 -> 1670
A11: Betonstructuur - Betonnen vloer | B11: =+Budgetdetails!F32 -> 1507 | C11: 0 | D11: =+B11-(B11*C11) -> 1507 | E11: =+D11 -> 1507
A12: Polyurethaan vloer | B12: =+Budgetdetails!F46 -> 565 | C12: 0 | D12: =+B12-(B12*C12) -> 565 | E12: =+D12 -> 565
A13: Betonnen vloer metselwerk | B13: =+Budgetdetails!F50 -> 42 | C13: 0 | D13: =+B13-(B13*C13) -> 42 | E13: =+D13 -> 42
A14: Stukadoors | B14: =+Budgetdetails!F55 -> 106 | C14: 0 | D14: =+B14-(B14*C14) -> 106 | E14: =+D14 -> 106
A15: Coatings | B15: =+Budgetdetails!F61 -> 96 | C15: 0 | D15: =+B15-(B15*C15) -> 96 | E15: =+D15 -> 96
A16: Plafond | B16: =+Budgetdetails!F64 -> 15 | C16: 0 | D16: =+B16-(B16*C16) -> 15 | E16: =+D16 -> 15
A17: Timmerwerk | B17: =+Budgetdetails!F73 -> 303 | C17: 0 | D17: =+B17-(B17*C17) -> 303 | E17: =+D17 -> 303
A18: Elektrische installatie | B18: =+Budgetdetails!F77 -> 27 | C18: 0 | D18: =+B18-(B18*C18) -> 27 | E18: =+D18 -> 27
A19: Water installatie | B19: =+Budgetdetails!F87 -> 206 | C19: 0 | D19: =+B19-(B19*C19) -> 206 | E19: =+D19 -> 206
A20: Schilderen | B20: =+Budgetdetails!F91 -> 6 | C20: 0 | D20: =+B20-(B20*C20) -> 6 | E20: =+D20 -> 6
A21: Schoonmaak van de bouw | B21: =+Budgetdetails!F94 -> 55 | C21: 0 | D21: =+B21-(B21*C21) -> 55 | E21: =+D21 -> 55
B22: 0 | C22: 0 | D22: =+B22-(B22*C22) -> 0 | E22: =+D22 -> 0
B23: 0 | D23: =+B23-(B23*C23) -> 0 | E23: =+D23 -> 0
B24: 0 | D24: =+B24-(B24*C24) -> 0 | E24: =+D24 -> 0
B25: 0 | D25: =+B25-(B25*C25) -> 0 | E25: =+D25 -> 0
D26: SUBTOTAAL | E26: =SUBTOTAL(109,Table2[TOTAAL]) -> 7977.5
D27: BTW (%) | E27: 0.21
D28: BTW-BEDRAG | E28: =+E26*E27 -> 1675.275
D29: Totaal-generaal | E29: =+E28+E26 -> 9652.775

Sheet Budgetdetails
A1: DETAILS VAN DE BOUWBEGROTING
A4: Sl. NEE | B4: NAAM | C4: Eenheid | D4: HOEVEELHEID | E4: EENHEIDSPRIJS | F4: TOTAAL
A5: 01 | B5: Workshop - Chemische toiletten | C5: gl | D5: 1 | E5: 200 | F5: =+Table1[[#This Row],[EENHEIDSPRIJS]]*Table1[[#This Row],[HOEVEELHEID]] -> 200
A6: 02 | B6: Hygiënische Veiligheidsdienst | C6: gl | D6: 1 | E6: 300 | F6: =+Table1[[#This Row],[EENHEIDSPRIJS]]*Table1[[#This Row],[HOEVEELHEID]] -> 300
A7: 03 | B7: Technisch vertegenwoordiger | C7: gl | D7: 1 | E7: 120 | F7: =+Table1[[#This Row],[EENHEIDSPRIJS]]*Table1[[#This Row],[HOEVEELHEID]] -> 120
A8: 04 | B8: Isolatiebehuizing voor het gebied (buisstructuur + PE-folie, ca. 200 m²) 30.00X4.50 | C8: m | D8: 1 | E8: 50 | F8: =+Table1[[#This Row],[EENHEIDSPRIJS]]*Table1[[#This Row],[HOEVEELHEID]] -> 50
A9: 05 | B9: Losmaken van timmerwerk | C9: gl | D9: 1 | E9: 200 | F9: =+Table1[[#This Row],[EENHEIDSPRIJS]]*Table1[[#This Row],[HOEVEELHEID]] -> 200
A10: 06 | B10: Af- en afkoppelen van sanitaire/elektrische installaties | C10: gl | D10: 1 | E10: 1220 | F10: =+Table1[[#This Row],[EENHEIDSPRIJS]]*Table1[[#This Row],[HOEVEELHEID]] -> 1220
A11: 07 | B11: Demontage van verlaagde plafonds gemaakt van verwijderbare Durlock-panelen | C11: m | D11: 1 | E11: 100 | F11: =+Table1[[#This Row],[EENHEIDSPRIJS]]*Table1[[#This Row],[HOEVEELHEID]] -> 100
A12: 08 | B12: Zagen en slopen van betonvloer. | C12: m | D12: 1 | E12: 200 | F12: =+Table1[[#This Row],[EENHEIDSPRIJS]]*Table1[[#This Row],[HOEVEELHEID]] -> 200
B13: Voorbereidende taken | F13: =SUM(F5:F12) -> 2390
A15: 09 | B15: Zagen en slopen van betonvloer. Drainage. CIP kamer | C15: m | D15: 2 | E15: 300 | F15: =+Table1[[#This Row],[EENHEIDSPRIJS]]*Table1[[#This Row],[HOEVEELHEID]] -> 600
A16: 10 | B16: Zagen en slopen van vloerbedekking in de voorkamer, dikte 0,20 | C16: m | D16: 1 | E16: 200 | F16: =+Table1[[#This Row],[EENHEIDSPRIJS]]*Table1[[#This Row],[HOEVEELHEID]] -> 200
A17: 11 | B17: Zagen en egaliseren van de vloer in sapruimte en afvoergoot, 0,10 m | C17: m | D17: 1 | E17: 122 | F17: =+Table1[[#This Row],[EENHEIDSPRIJS]]*Table1[[#This Row],[HOEVEELHEID]] -> 122
A18: 12 | B18: Verticuteren van bestaande vloer voor egalisatie. Schuine egalisatievloer. | C18: m | D18: 1 | E18: 88 | F18: =+Table1[[#This Row],[EENHEIDSPRIJS]]*Table1[[#This Row],[HOEVEELHEID]] -> 88
A19: 13 | B19: Afbraak van blokmetselwerk | C19: m | D19: 1 | E19: 99 | F19: =+Table1[[#This Row],[EENHEIDSPRIJS]]*Table1[[#This Row],[HOEVEELHEID]] -> 99
B20: Sloop | F20: =SUM(F15:F19) -> 1109
A22: 14 | B22: PVC buis. D:0.064 | C22: ml | D22: 1 | E22: 281 | F22: =+Table1[[#This Row],[EENHEIDSPRIJS]]*Table1[[#This Row],[HOEVEELHEID]] -> 281
A23: 15 | B23: PVC afvoer 100X100x3,2, sifon met bronzen afdekking | C23: No | D23: 1 | E23: 92 | F23: =+Table1[[#This Row],[EENHEIDSPRIJS]]*Table1[[#This Row],[HOEVEELHEID]] -> 92
A24: 16 | B24: Afvoergoot 0.30x2.10 met frame en RVS rooster. | C24: ml | D24: 1 | E24: 551 | F24: =+Table1[[#This Row],[EENHEIDSPRIJS]]*Table1[[#This Row],[HOEVEELHEID]] -> 551
A25: 17 | B25: Aansluiting en verbinding met bestaande kamer. | C25: Nee | D25: 1 | E25: 718 | F25: =+Table1[[#This Row],[EENHEIDSPRIJS]]*Table1[[#This Row],[HOEVEELHEID]] -> 718
A26: 18 | B26: Reconstructie van betonnen vloer, dikte 0,20 | C26: m | D26: 1 | E26: 28 | F26: =+Table1[[#This Row],[EENHEIDSPRIJS]]*Table1[[#This Row],[HOEVEELHEID]] -> 28
B27: Industriële afwatering | F27: =SUM(F22:F26) -> 1670
A29: 19 | B29: Kettingbalk op betonblok metselwerk 0.20x0.20 | C29: ml | D29: 1 | E29: 288 | F29: =+Table1[[#This Row],[EENHEIDSPRIJS]]*Table1[[#This Row],[HOEVEELHEID]] -> 288
A30: 20 | B30: Betonnen vloer, dikte 0,20 | C30: m | D30: 1 | E30: 899 | F30: =+Table1[[#This Row],[EENHEIDSPRIJS]]*Table1[[#This Row],[HOEVEELHEID]] -> 899
A31: 21 | B31: Sanitaire plinten | C31: ml | D31: 1 | E31: 320 | F31: =+Table1[[#This Row],[EENHEIDSPRIJS]]*Table1[[#This Row],[HOEVEELHEID]] -> 320
B32: Betonstructuur - Betonnen vloer | F32: =SUM(F29:F31) -> 1507
A34: 22 | B34: Schuren, voorbereiden van onderfundering, egaliseren / nieuwe vloeren | C34: m | D34: 1 | E34: 50 | F34: =+Table1[[#This Row],[EENHEIDSPRIJS]]*Table1[[#This Row],[HOEVEELHEID]] -> 50
A35: 23 | B35: Egaliseren van mortel | C35: m | D35: 1 | E35: 60 | F35: =+Table1[[#This Row],[EENHEIDSPRIJS]]*Table1[[#This Row],[HOEVEELHEID]] -> 60
A36: 24 | B36: Polyurethaan coating | C36: m | D36: 1 | E36: 70 | F36: =+Table1[[#This Row],[EENHEIDSPRIJS]]*Table1[[#This Row],[HOEVEELHEID]] -> 70
A37: 25 | B37: Anti-kras lak | C37: m | D37: 1 | E37: 50 | F37: =+Table1[[#This Row],[EENHEIDSPRIJS]]*Table1[[#This Row],[HOEVEELHEID]] -> 50
A38: 26 | B38: Voegen zagen | C38: ml | D38: 1 | E38: 43 | F38: =+Table1[[#This Row],[EENHEIDSPRIJS]]*Table1[[#This Row],[HOEVEELHEID]] -> 43
A39: 27 | B39: Voegen afdichten | C39: ml | D39: 1 | E39: 11 | F39: =+Table1[[#This Row],[EENHEIDSPRIJS]]*Table1[[#This Row],[HOEVEELHEID]] -> 11
A40: 28 | B40: Aanleg van sanitaire plinten. | C40: ml | D40: 1 | E40: 23 | F40: =+Table1[[#This Row],[EENHEIDSPRIJS]]*Table1[[#This Row],[HOEVEELHEID]] -> 23
A41: 29 | B41: Schuren van bestaande vloer voor opnieuw schilderen | C41: m | D41: 1 | E41: 89 | F41: =+Table1[[#This Row],[EENHEIDSPRIJS]]*Table1[[#This Row],[HOEVEELHEID]] -> 89
A42: 30 | B42: Aanbrengen van voegen | C42: m | D42: 1 | E42: 92 | F42: =+Table1[[#This Row],[EENHEIDSPRIJS]]*Table1[[#This Row],[HOEVEELHEID]] -> 92
A43: 31 | B43: Aanbrengen van lak | C43: m | D43: 1 | E43: 11 | F43: =+Table1[[#This Row],[EENHEIDSPRIJS]]*Table1[[#This Row],[HOEVEELHEID]] -> 11
A44: 32 | B44: Voegen reinigen en afdichten | C44: ml | D44: 1 | E44: 54 | F44: =+Table1[[#This Row],[EENHEIDSPRIJS]]*Table1[[#This Row],[HOEVEELHEID]] -> 54
A45: 33 | B45: Plinten opnieuw schilderen | C45: ml | D45: 1 | E45: 12 | F45: =+Table1[[#This Row],[EENHEIDSPRIJS]]*Table1[[#This Row],[HOEVEELHEID]] -> 12
B46: Polyurethaan vloer | F46: =SUM(F34:F45) -> 565
A48: 34 | B48: Betonblokken 12x19x39 glad standaard (19x19x39) | C48: m | D48: 1 | E48: 21 | F48: =+Table1[[#This Row],[EENHEIDSPRIJS]]*Table1[[#This Row],[HOEVEELHEID]] -> 21
A49: 35 | B49: Wapeningskolommen met blokken 0,20x0,20x4,00 (19x19x39) | C49: ml | D49: 1 | E49: 21 | F49: =+Table1[[#This Row],[EENHEIDSPRIJS]]*Table1[[#This Row],[HOEVEELHEID]] -> 21
B50: Betonnen vloer metselwerk | F50: =SUM(F48:F49) -> 42
A52: 36 | B52: Betonstralen met waterafstotend middel | C52: m | D52: 1 | E52: 44 | F52: =+Table1[[#This Row],[EENHEIDSPRIJS]]*Table1[[#This Row],[HOEVEELHEID]] -> 44
A53: 37 | B53: Dik pleisterwerk onder de laag | C53: m | D53: 1 | E53: 21 | F53: =+Table1[[#This Row],[EENHEIDSPRIJS]]*Table1[[#This Row],[HOEVEELHEID]] -> 21
A54: 38 | B54: Glasvezel gaas | C54: m | D54: 1 | E54: 41 | F54: =+Table1[[#This Row],[EENHEIDSPRIJS]]*Table1[[#This Row],[HOEVEELHEID]] -> 41
B55: Stukadoors | F55: =SUM(F52:F54) -> 106
A57: 39 | B57: Witte tegelbekleding | C57: m | D57: 1 | E57: 41 | F57: =+Table1[[#This Row],[EENHEIDSPRIJS]]*Table1[[#This Row],[HOEVEELHEID]] -> 41
A58: 40 | B58: Standaard 12,5 mm Durlock paneelbekleding zonder metalen structuur | C58: m | D58: 1 | E58: 22 | F58: =+Table1[[#This Row],[EENHEIDSPRIJS]]*Table1[[#This Row],[HOEVEELHEID]] -> 22
A59: 41 | B59: Sanitaire hoekbeschermers met roestvrije afwerking | C59: ml. | D59: 1 | E59: 12 | F59: =+Table1[[#This Row],[EENHEIDSPRIJS]]*Table1[[#This Row],[HOEVEELHEID]] -> 12
A60: 42 | B60: Durlock plaat afdekkingen | C60: m | D60: 1 | E60: 21 | F60: =+Table1[[#This Row],[EENHEIDSPRIJS]]*Table1[[#This Row],[HOEVEELHEID]] -> 21
B61: Coatings | F61: =SUM(F57:F60) -> 96
A63: 43 | B63: Uitneembaar plafond gemaakt van Durlock panelen 0.60x1.21 | C63: m | D63: 1 | E63: 15 | F63: =+Table1[[#This Row],[EENHEIDSPRIJS]]*Table1[[#This Row],[HOEVEELHEID]] -> 15
B64: Plafond | F64: =SUM(F63) -> 15
A66: 44 | B66: Glazen pui met vaste panelen 3.95x3.70 TYPE M1 | C66: No | D66: 1 | E66: 55 | F66: =+Table1[[#This Row],[EENHEIDSPRIJS]]*Table1[[#This Row],[HOEVEELHEID]] -> 55
A67: 45 | B67: Glazen pui met vaste panelen 2.20x3.70 type M2 | C67: No | D67: 1 | E67: 22 | F67: =+Table1[[#This Row],[EENHEIDSPRIJS]]*Table1[[#This Row],[HOEVEELHEID]] -> 22
A68: 46 | B68: Draaideur 0.80x2.00 type P1 MET SLOT/GELAAGD GLAS/SLUITING. | C68: No | D68: 1 | E68: 1 | F68: =+Table1[[#This Row],[EENHEIDSPRIJS]]*Table1[[#This Row],[HOEVEELHEID]] -> 1
A69: 47 | B69: Verwijderbare voorkant 3.10x3.70 | C69: No | D69: 1 | E69: 2 | F69: =+Table1[[#This Row],[EENHEIDSPRIJS]]*Table1[[#This Row],[HOEVEELHEID]] -> 2
A70: 48 | B70: Vast raampaneel V1 2.00X0.85 | C70: No | D70: 1 | E70: 4 | F70: =+Table1[[#This Row],[EENHEIDSPRIJS]]*Table1[[#This Row],[HOEVEELHEID]] -> 4
A71: 49 | B71: PVC strookgordijnen. 1.60X2.05 met RVS steun. | C71: No | D71: 1 | E71: 99 | F71: =+Table1[[#This Row],[EENHEIDSPRIJS]]*Table1[[#This Row],[HOEVEELHEID]] -> 99
A72: 50 | B72: Schuifpoort 1.60x2.05 met bovenrail. Witte lamellen | C72: No | D72: 1 | E72: 120 | F72: =+Table1[[#This Row],[EENHEIDSPRIJS]]*Table1[[#This Row],[HOEVEELHEID]] -> 120
B73: Timmerwerk | F73: =SUM(F66:F72) -> 303
A75: 51 | B75: Wanddoorvoer | C75: ml | D75: 1 | E75: 15 | F75: =+Table1[[#This Row],[EENHEIDSPRIJS]]*Table1[[#This Row],[HOEVEELHEID]] -> 15
A76: 52 | B76: Buisinstallatie met 2 uitgangen | C76: gl | D76: 1 | E76: 12 | F76: =+Table1[[#This Row],[EENHEIDSPRIJS]]*Table1[[#This Row],[HOEVEELHEID]] -> 12
B77: Elektrische installatie | F77: =SUM(F75:F76) -> 27
A79: 53 | B79: 3/4" thermolaspijp | C79: ml | D79: 1 | E79: 12 | F79: =+Table1[[#This Row],[EENHEIDSPRIJS]]*Table1[[#This Row],[HOEVEELHEID]] -> 12
A80: 54 | B80: 3/4" kogelkraan | C80: No | D80: 1 | E80: 12 | F80: =+Table1[[#This Row],[EENHEIDSPRIJS]]*Table1[[#This Row],[HOEVEELHEID]] -> 12
A81: 55 | B81: 1/2" afsluiter | C81: No | D81: 1 | E81: 19 | F81: =+Table1[[#This Row],[EENHEIDSPRIJS]]*Table1[[#This Row],[HOEVEELHEID]] -> 19
A82: 56 | B82: 1/2" flexible hoses | C82: No | D82: 1 | E82: 29 | F82: =+Table1[[#This Row],[EENHEIDSPRIJS]]*Table1[[#This Row],[HOEVEELHEID]] -> 29
A83: 57 | B83: Eengreepskranen van het type FV | C83: No | D83: 1 | E83: 77 | F83: =+Table1[[#This Row],[EENHEIDSPRIJS]]*Table1[[#This Row],[HOEVEELHEID]] -> 77
A84: 58 | B84: Roestvrijstalen spoelbak. Aan de muur gemonteerd. | C84: No | D84: 1 | E84: 12 | F84: =+Table1[[#This Row],[EENHEIDSPRIJS]]*Table1[[#This Row],[HOEVEELHEID]] -> 12
A85: 59 | B85: Elektrische boiler van 30 liter. | C85: No | D85: 1 | E85: 33 | F85: =+Table1[[#This Row],[EENHEIDSPRIJS]]*Table1[[#This Row],[HOEVEELHEID]] -> 33
A86: 60 | B86: FV chroom rechte sifon. | C86: No | D86: 1 | E86: 12 | F86: =+Table1[[#This Row],[EENHEIDSPRIJS]]*Table1[[#This Row],[HOEVEELHEID]] -> 12
B87: Water installatie | F87: =SUM(F79:F86) -> 206
A89: 61 | B89: Eerste | C89: m | D89: 1 | E89: 5 | F89: =+Table1[[#This Row],[EENHEIDSPRIJS]]*Table1[[#This Row],[HOEVEELHEID]] -> 5
A90: 62 | B90: Latexverf voor buitengebruik, schimmelwerend, algemeen opnieuw schilderen. | C90: m | D90: 1 | E90: 1 | F90: =+Table1[[#This Row],[EENHEIDSPRIJS]]*Table1[[#This Row],[HOEVEELHEID]] -> 1
B91: Schilderen | F91: =SUM(F89:F90) -> 6
A93: 63 | B93: Schoonmaak van de bouw | C93: hs | D93: 1 | E93: 55 | F93: =+Table1[[#This Row],[EENHEIDSPRIJS]]*Table1[[#This Row],[HOEVEELHEID]] -> 55
B94: Schoonmaak van de bouw | F94: =SUM(F93) -> 55
